BEGIN:VCALENDAR
VERSION:2.0
PRODID:-//Squarespace Inc/Squarespace 6//v6//EN
BEGIN:VEVENT
UID:5bc2d835c83025dddf2ef800@squarespace.com
DTSTAMP:20181014T221731Z
DTSTART:20181028T000000Z
DTEND:20181028T020000Z
SUMMARY:Essential Oils for Women's Health
GEO:-27.437815;153.043388
LOCATION:Jack Jones Health & Fitness\, 3 Beaumont St\, Albion\, QLD\, 4007\
 , Australia
END:VEVENT
END:VCALENDAR
