BEGIN:VCALENDAR
VERSION:2.0
PRODID:-//Squarespace Inc/Squarespace 6//v6//EN
BEGIN:VEVENT
UID:5bc3be380852293bddf250d3@squarespace.com
DTSTAMP:20181014T221307Z
DTSTART:20181117T060000Z
DTEND:20181117T120000Z
SUMMARY:End of Year Celebration!
END:VEVENT
END:VCALENDAR
