BEGIN:VCALENDAR
VERSION:2.0
PRODID:-//Squarespace Inc/Squarespace 6//v6//EN
BEGIN:VEVENT
UID:5c342bd370a6ad0ce764f683@squarespace.com
DTSTAMP:20190224T053444Z
DTSTART:20190310T010000Z
DTEND:20190310T043000Z
SUMMARY:Nourish Health - Mind\, Body\, Food!
GEO:-27.437815;153.043388
LOCATION:Nourish Health Workshops\, 3 Beaumont Street\, Albion\, Queensland 
 4010\, Australia
END:VEVENT
END:VCALENDAR
