BEGIN:VCALENDAR
VERSION:2.0
PRODID:-//Squarespace Inc/Squarespace 6//v6//EN
BEGIN:VEVENT
UID:5d92bda081b391136bd80865@squarespace.com
DTSTAMP:20191001T031054Z
DTSTART:20191027T010000Z
DTEND:20191027T040000Z
SUMMARY:EVERYDAY REAL FOOD!
GEO:-27.437815;153.043388
LOCATION:3 Beaumont Street\, Albion
END:VEVENT
END:VCALENDAR
