BEGIN:VCALENDAR
VERSION:2.0
PRODID:-//Squarespace Inc/Squarespace 6//v6//EN
BEGIN:VEVENT
UID:5c5268a1562fa7e1fa9d0a07@squarespace.com
DTSTAMP:20190206T012750Z
DTSTART:20190216T000000Z
DTEND:20190216T040000Z
SUMMARY:Essential Oils - Natural Solutions Workshop
END:VEVENT
END:VCALENDAR
