BEGIN:VCALENDAR
VERSION:2.0
PRODID:-//Squarespace Inc/Squarespace 6//v6//EN
BEGIN:VEVENT
UID:5c5951386e9a7f0c4230534e@squarespace.com
DTSTAMP:20190206T012643Z
DTSTART:20190217T000000Z
DTEND:20190217T020000Z
SUMMARY:Essential Oils - Women's Health Make &amp\; Take Workshop
GEO:-27.437815;153.043388
LOCATION:Jack Jones Health & Fitness\, 3 Beaumont Street\, Albion\, Austral
 ia
END:VEVENT
END:VCALENDAR
