BEGIN:VCALENDAR
VERSION:2.0
PRODID:-//Squarespace Inc/Squarespace 6//v6//EN
BEGIN:VEVENT
UID:5c2982d4562fa795d8861b07@squarespace.com
DTSTAMP:20190111T073235Z
DTSTART:20190203T010000Z
DTEND:20190203T040000Z
SUMMARY:February Cooking Class - Fast Food for Busy People!
GEO:-27.437815;153.043388
LOCATION:Jack Jones Health & Fitness\, 3 Beaumont Street\, Albion\, Brisban
 e 4010\, Australia
END:VEVENT
END:VCALENDAR
