BEGIN:VCALENDAR
VERSION:2.0
PRODID:-//Squarespace Inc/Squarespace 6//v6//EN
BEGIN:VEVENT
UID:5cbea475e79c703547cdeacd@squarespace.com
DTSTAMP:20190503T050052Z
DTSTART:20190519T010000Z
DTEND:20190519T040000Z
SUMMARY:ASIAN-INSPIRED COOKING CLASS!
GEO:-27.437815;153.043388
LOCATION:Jack Jones Health & Fitness\, 3 Beaumont Street\, Albion\, Brisban
 e\, Australia
END:VEVENT
END:VCALENDAR
