BEGIN:VCALENDAR
VERSION:2.0
PRODID:-//Squarespace Inc/Squarespace 6//v6//EN
BEGIN:VEVENT
UID:5ce37da92fcbf70001c9a1fd@squarespace.com
DTSTAMP:20190521T043307Z
DTSTART:20190525T010000Z
DTEND:20190525T030000Z
SUMMARY:Essential Oils - Women's Hormone Health
GEO:-27.437815;153.043388
LOCATION:Jack Jones Health & Fitness\, 3 Beaumont Street\, Albion\, QLD\, 4
 010\, Australia
END:VEVENT
END:VCALENDAR
