BEGIN:VCALENDAR
VERSION:2.0
PRODID:-//Squarespace Inc/Squarespace 6//v6//EN
BEGIN:VEVENT
UID:5cff7259688f1c0001f7965a@squarespace.com
DTSTAMP:20190720T235614Z
DTSTART:20190804T010000Z
DTEND:20190804T040000Z
SUMMARY:MEDITERRANEAN-INSPIRED COOKING CLASS
GEO:-27.437815;153.043388
LOCATION:Jack Jones Health & Fitness\, 3 Beaumont Street\, Albion\, Austral
 ia
END:VEVENT
END:VCALENDAR
